BEGIN:VCALENDAR
VERSION:2.0
PRODID:-//Käthe Kollwitz Gesamtschule Leverkusen - ECPv6.15.17.1//NONSGML v1.0//EN
CALSCALE:GREGORIAN
METHOD:PUBLISH
X-ORIGINAL-URL:https://www.gesamtschule-leverkusen.de
X-WR-CALDESC:Veranstaltungen für Käthe Kollwitz Gesamtschule Leverkusen
REFRESH-INTERVAL;VALUE=DURATION:PT1H
X-Robots-Tag:noindex
X-PUBLISHED-TTL:PT1H
BEGIN:VTIMEZONE
TZID:Europe/Budapest
BEGIN:DAYLIGHT
TZOFFSETFROM:+0100
TZOFFSETTO:+0200
TZNAME:CEST
DTSTART:20250330T010000
END:DAYLIGHT
BEGIN:STANDARD
TZOFFSETFROM:+0200
TZOFFSETTO:+0100
TZNAME:CET
DTSTART:20251026T010000
END:STANDARD
BEGIN:DAYLIGHT
TZOFFSETFROM:+0100
TZOFFSETTO:+0200
TZNAME:CEST
DTSTART:20260329T010000
END:DAYLIGHT
BEGIN:STANDARD
TZOFFSETFROM:+0200
TZOFFSETTO:+0100
TZNAME:CET
DTSTART:20261025T010000
END:STANDARD
BEGIN:DAYLIGHT
TZOFFSETFROM:+0100
TZOFFSETTO:+0200
TZNAME:CEST
DTSTART:20270328T010000
END:DAYLIGHT
BEGIN:STANDARD
TZOFFSETFROM:+0200
TZOFFSETTO:+0100
TZNAME:CET
DTSTART:20271031T010000
END:STANDARD
END:VTIMEZONE
BEGIN:VEVENT
DTSTART;TZID=Europe/Budapest:20260120T144500
DTEND;TZID=Europe/Budapest:20260120T160000
DTSTAMP:20260421T201215
CREATED:20250820T103859Z
LAST-MODIFIED:20260120T141044Z
UID:15776934-1768920300-1768924800@www.gesamtschule-leverkusen.de
SUMMARY:Termin für Arbeitskreise 3
DESCRIPTION:
URL:https://www.gesamtschule-leverkusen.de/event/termin-fuer-arbeitskreise-3/
END:VEVENT
END:VCALENDAR